BEGIN:VCALENDAR
PRODID:-//eluceo/ical//2.0/EN
VERSION:2.0
CALSCALE:GREGORIAN
BEGIN:VEVENT
UID:3acba10158f3ac1012edd0e72eb319a1
DTSTAMP:20260421T141631Z
SUMMARY:JF&CS AGM
DESCRIPTION:UJA Federation of Greater Toronto\nJewish Toronto Calendar\nhtt
 ps://jewishtoronto.com/calendar/jfcs-agm-1733327642\n\nJF&CS Annual Genera
 l Meeting
DTSTART;TZID=America/Toronto:20250918T190000
DTEND;TZID=America/Toronto:20250918T210000
END:VEVENT
END:VCALENDAR
