BEGIN:VCALENDAR
PRODID:-//eluceo/ical//2.0/EN
VERSION:2.0
CALSCALE:GREGORIAN
BEGIN:VEVENT
UID:202fece32fbd6f13fe14fae51e5aff52
DTSTAMP:20260425T010922Z
SUMMARY:JF&CS 150 Birthday Gala
DESCRIPTION:UJA Federation of Greater Toronto\nJewish Toronto Calendar\nhtt
 ps://jewishtoronto.com/calendar/jfcs-150-birthday-gala-1473782189\n\nJF&CS
  150th celebration.
DTSTART;TZID=America/Toronto:20180509T180000
DTEND;TZID=America/Toronto:20180509T210000
END:VEVENT
END:VCALENDAR
