BEGIN:VCALENDAR
PRODID:-//eluceo/ical//2.0/EN
VERSION:2.0
CALSCALE:GREGORIAN
BEGIN:VEVENT
UID:7a7206565d8cdb3b35a64f2c16496481
DTSTAMP:20260422T050258Z
SUMMARY:Jews in Sports: Jews and Baseball
DESCRIPTION:UJA Federation of Greater Toronto\nJewish Toronto Calendar\nhtt
 ps://jewishtoronto.com/calendar/jews-in-sports-jews-and-baseball\n\nJoin u
 s for part three of the new four-part series looking at the accomplishment
 s of Jews in basketball\, hockey\, baseball and other sports activities. N
 o charge\, everyone welcome!\n\nSponsored by the Beth Tzedec Men's Club\n\
 n \n\nPART 3:  Jews in Sports: Jews and Baseball\n\nA lecture on Jews in
  baseball with teacher and consultant Charles Novogrodsky.\n\n \n\nApril 
 7\, 2015 | 7:30pm\n\nJews in Sports: Jews and Basketball\n\nA lecture on J
 ews in baseball with teacher and consultant Charl...
DTSTART;TZID=America/Toronto:20150324T193000
DTEND;TZID=America/Toronto:20150324T213000
END:VEVENT
END:VCALENDAR
