BEGIN:VCALENDAR
PRODID:-//eluceo/ical//2.0/EN
VERSION:2.0
CALSCALE:GREGORIAN
BEGIN:VEVENT
UID:c31cba918694ac5a241e51a037489134
DTSTAMP:20260423T232601Z
SUMMARY:Jews & Schmooze - Singles BBQ
DESCRIPTION:UJA Federation of Greater Toronto\nJewish Toronto Calendar\nhtt
 ps://jewishtoronto.com/calendar/jews--schmooze---singles-bbq-1746121794\n\
 nSingles night for people aged 55-72. Meet new people\, mingle\, make frie
 nds\, and maybe fall in love?! \n$25 admission\, registration required.
DTSTART;TZID=America/Toronto:20250511T140000
DTEND;TZID=America/Toronto:20250511T160000
END:VEVENT
END:VCALENDAR
