BEGIN:VCALENDAR
PRODID:-//eluceo/ical//2.0/EN
VERSION:2.0
CALSCALE:GREGORIAN
BEGIN:VEVENT
UID:812cff9f04b94e6587d673a08a14e8e2
DTSTAMP:20260421T094626Z
SUMMARY:Jewish University for a Day
DESCRIPTION:UJA Federation of Greater Toronto\nJewish Toronto Calendar\nhtt
 ps://jewishtoronto.com/calendar/jewish-university-for-a-day-1\n\nJewish Un
 iversity for a Day
DTSTART;TZID=America/Toronto:20141117T090000
DTEND;TZID=America/Toronto:20141117T170000
END:VEVENT
END:VCALENDAR
