BEGIN:VCALENDAR
PRODID:-//eluceo/ical//2.0/EN
VERSION:2.0
CALSCALE:GREGORIAN
BEGIN:VEVENT
UID:e040636d576c5e7a9150d5077054d0e5
DTSTAMP:20260422T022109Z
SUMMARY:Jewish Toronto's Dirty Little Secret
DESCRIPTION:UJA Federation of Greater Toronto\nJewish Toronto Calendar\nhtt
 ps://jewishtoronto.com/calendar/jewish-torontos-dirty-little-secret\n\n'Se
 xual Abuse: Jewish Toronto's Dirty Little Secret\,' with abuse survivor an
 d Har Zion member Stephen Marcus. Open to all. Free event\, registration e
 ncouraged.
DTSTART;TZID=America/Toronto:20140522T193000
DTEND;TZID=America/Toronto:20140522T223000
END:VEVENT
END:VCALENDAR
