BEGIN:VCALENDAR
PRODID:-//eluceo/ical//2.0/EN
VERSION:2.0
CALSCALE:GREGORIAN
BEGIN:VEVENT
UID:069b0fdc989fc5062b370e83dd497dfa
DTSTAMP:20260421T170138Z
SUMMARY:Jewish Toronto Family Day
DESCRIPTION:UJA Federation of Greater Toronto\nJewish Toronto Calendar\nhtt
 ps://jewishtoronto.com/calendar/jewish-toronto-family-day-1531400132\n\nA 
 Community wide initiative to support family time and development.
DTSTART;TZID=America/Toronto:20181206T080000
DTEND;TZID=America/Toronto:20181206T235900
END:VEVENT
END:VCALENDAR
