BEGIN:VCALENDAR
PRODID:-//eluceo/ical//2.0/EN
VERSION:2.0
CALSCALE:GREGORIAN
BEGIN:VEVENT
UID:23a69f6688d66fd99d7e4333e35bd1d1
DTSTAMP:20260419T154629Z
SUMMARY:Jewish Teen Board Granting Ceremony
DESCRIPTION:UJA Federation of Greater Toronto\nJewish Toronto Calendar\nhtt
 ps://jewishtoronto.com/calendar/jewish-teen-board-granting-ceremony-176789
 4173\n\nYear end celebration and granting ceremony for Jewish Teen Board m
 embers.
DTSTART;TZID=America/Toronto:20260611T190000
DTEND;TZID=America/Toronto:20260611T210000
END:VEVENT
END:VCALENDAR
