BEGIN:VCALENDAR
PRODID:-//eluceo/ical//2.0/EN
VERSION:2.0
CALSCALE:GREGORIAN
BEGIN:VEVENT
UID:a2f1f04c314fc6fbf23822206d010338
DTSTAMP:20260421T000725Z
SUMMARY:Jewish Symbology in the works of Michelangelo’s Sistine Chapel 
DESCRIPTION:UJA Federation of Greater Toronto\nJewish Toronto Calendar\nhtt
 ps://jewishtoronto.com/calendar/jewish-symbology-in-the-works-of-michelang
 elos-sistine-chapel\n\nBEBY Continuing Education presents Jewish Symbology
  in the works of Michelangelo’s Sistine Chapel\nwith Rouhama Danto.\n\nA
 ll Welcome. No Charge.\n 
DTSTART;TZID=America/Toronto:20150325T193000
DTEND;TZID=America/Toronto:20150325T213000
END:VEVENT
END:VCALENDAR
