BEGIN:VCALENDAR
PRODID:-//eluceo/ical//2.0/EN
VERSION:2.0
CALSCALE:GREGORIAN
BEGIN:VEVENT
UID:fbb3ac5cf20c930d8e06276485461c8b
DTSTAMP:20260420T024402Z
SUMMARY:Jewish Speed Dating - Na'amat Canada Toronto
DESCRIPTION:UJA Federation of Greater Toronto\nJewish Toronto Calendar\nhtt
 ps://jewishtoronto.com/calendar/jewish-speed-dating---naamat-canada-toront
 o-1582651045\n\nNa'amat Canada Toronto presents: "Go Fish!"\nJewish Speed 
 Dating for singles in their mid-20's to mid-30's\nThursday\, April 2nd at 
 7:00pm\nBorochov Cultural Centre - 272 Codsell Ave\nTickets are $36 and mu
 st be purchased in advance.\nEmail club.ruach@naamat.com by March 19th to 
 RSVP\nSpots are limited and not guaranteed until payment is made.
DTSTART;TZID=America/Toronto:20200402T190000
DTEND;TZID=America/Toronto:20200402T210000
END:VEVENT
END:VCALENDAR
