BEGIN:VCALENDAR
PRODID:-//eluceo/ical//2.0/EN
VERSION:2.0
CALSCALE:GREGORIAN
BEGIN:VEVENT
UID:92e97a0b708bbe92b57f30cfea32ddd3
DTSTAMP:20260421T043642Z
SUMMARY:Jewish Song Writers And The Evolution Of American Music
DESCRIPTION:UJA Federation of Greater Toronto\nJewish Toronto Calendar\nhtt
 ps://jewishtoronto.com/calendar/jewish-song-writers-and-the-evolution-of-a
 merican-music-1490116866\n\nWith Dr. Larry Gaum\n\nDo you recognize names 
 like\, Berlin\, Rogers\, Hammerstein\, Hart\, Kern\, Kahn\, Lerner\, Lowe\
 , North\, Zaret\, Harburg\, Arlen\, Caesar\, Gershwin?\n\nYou will once yo
 u have seen the documentary.\n\nWhether you’re Jewish or not\, you will 
 enjoy the history of American music and the tremendous contribution Jewish
  songwriters made in its evolution.
DTSTART;TZID=America/Toronto:20170420T193000
DTEND;TZID=America/Toronto:20170420T213000
END:VEVENT
END:VCALENDAR
