BEGIN:VCALENDAR
PRODID:-//eluceo/ical//2.0/EN
VERSION:2.0
CALSCALE:GREGORIAN
BEGIN:VEVENT
UID:62dd087ce977fdc7bc216ce95672ba3a
DTSTAMP:20260422T195102Z
SUMMARY:Jewish Music Week Student Art Contest Exhibition
DESCRIPTION:UJA Federation of Greater Toronto\nJewish Toronto Calendar\nhtt
 ps://jewishtoronto.com/calendar/jewish-music-week-student-art-contest-exhi
 bition-1527534740\n\nClosing Reception for Jewish Music Week Student Art C
 ontest Exhibition.\nSince the start of Jewish Music Week in 2011\, the Stu
 dent Art Contest has grown and become a significant feature of our festiva
 l. The theme this year was "Jewish Music and My Family" and hundreds of st
 udents across the GTA submitted artwork. The results were outstanding and 
 this exhibit features the winners\, finalists and honourable mentions.\n\n
 The exhibit itself is ongoing from May 26th to June 13th\, 2018. For galle
 ry ...
DTSTART;TZID=America/Toronto:20180613T180000
DTEND;TZID=America/Toronto:20180613T200000
END:VEVENT
END:VCALENDAR
