BEGIN:VCALENDAR
PRODID:-//eluceo/ical//2.0/EN
VERSION:2.0
CALSCALE:GREGORIAN
BEGIN:VEVENT
UID:e180a57596e4151a04dbdbbdf7ef7037
DTSTAMP:20260420T131810Z
SUMMARY:Jewish Music Week in Toronto : Musical Shabbat Around Town!
DESCRIPTION:UJA Federation of Greater Toronto\nJewish Toronto Calendar\nhtt
 ps://jewishtoronto.com/calendar/jewish-music-week-in-toronto-musical-shabb
 at-around-town-1\n\n8:45 AM Service begins\n10:45 AM Musaf: The Music Goes
  Round\n \nIt’s an intimate and exciting “Shabbat in the Round” wit
 h Cantor Simon Spiro and the sensational Beth Tzedec Singers. If you haven
 ’t heard the sound of this unique a cappella group\, now’s the time! Y
 ou sing along while being enveloped with the lush harmonies that have made
  this group famous. Enjoy blending your voice with those all around you as
  Cantor Simon leads us through Chassidic nigunim\, contemporary melodies a
 n...
DTSTART;TZID=America/Toronto:20150516T090000
DTEND;TZID=America/Toronto:20150516T130000
END:VEVENT
END:VCALENDAR
