BEGIN:VCALENDAR
PRODID:-//eluceo/ical//2.0/EN
VERSION:2.0
CALSCALE:GREGORIAN
BEGIN:VEVENT
UID:4a0c918f75b9bcd6b439c94ce6cc3319
DTSTAMP:20260422T205133Z
SUMMARY:Jewish Music Week in Toronto : Mahler on the Couch
DESCRIPTION:UJA Federation of Greater Toronto\nJewish Toronto Calendar\nhtt
 ps://jewishtoronto.com/calendar/jewish-music-week-in-toronto-mahler-on-the
 -couch\n\nA genius composer\, his wife\, her lover. .  . .  . and Sigmun
 d Freud\n \nIn this delightful\, artistic and occasionally loony fantasia
  about Vienna’s cultural elite 100 years ago\, Gustav Mahler discovers t
 hat his beautiful wife Alma\, the darling of Vienna’s arts scene\, is ha
 ving an affair with the dashing architect Walter Gropius. Tormented\, Mahl
 er travels to consult with Sigmund Freud. Filled with Mahler’s sublime m
 usic\, this film is beautifully written and directed by Percy Adlon (Ba...
DTSTART;TZID=America/Toronto:20150517T103000
DTEND;TZID=America/Toronto:20150517T121500
END:VEVENT
END:VCALENDAR
