BEGIN:VCALENDAR
PRODID:-//eluceo/ical//2.0/EN
VERSION:2.0
CALSCALE:GREGORIAN
BEGIN:VEVENT
UID:1550596266b287ff324d47a043c91cac
DTSTAMP:20260423T161557Z
SUMMARY:Jewish Music Week in Toronto Evening Concert
DESCRIPTION:UJA Federation of Greater Toronto\nJewish Toronto Calendar\nhtt
 ps://jewishtoronto.com/calendar/jewish-music-week-in-toronto-evening-conce
 rt-1442536551\n\nDetails to follow\nwww.jewishmusicweek.com
DTSTART;TZID=America/Toronto:20170525T190000
DTEND;TZID=America/Toronto:20170525T230000
END:VEVENT
END:VCALENDAR
