BEGIN:VCALENDAR
PRODID:-//eluceo/ical//2.0/EN
VERSION:2.0
CALSCALE:GREGORIAN
BEGIN:VEVENT
UID:f91e0516bdfde4ee4c6d31a13f07fb37
DTSTAMP:20260420T090230Z
SUMMARY:Jewish Music Week in Toronto Evening Concert
DESCRIPTION:UJA Federation of Greater Toronto\nJewish Toronto Calendar\nhtt
 ps://jewishtoronto.com/calendar/jewish-music-week-in-toronto-evening-conce
 rt-1442536436\n\nDetails to follow\nwww.jewishmusicweek.com
DTSTART;TZID=America/Toronto:20170524T190000
DTEND;TZID=America/Toronto:20170524T230000
END:VEVENT
END:VCALENDAR
