BEGIN:VCALENDAR
PRODID:-//eluceo/ical//2.0/EN
VERSION:2.0
CALSCALE:GREGORIAN
BEGIN:VEVENT
UID:7aeb27705779fbc1ae1df45449604631
DTSTAMP:20260422T144034Z
SUMMARY:Jewish Music Week in Toronto Evening Concert
DESCRIPTION:UJA Federation of Greater Toronto\nJewish Toronto Calendar\nhtt
 ps://jewishtoronto.com/calendar/jewish-music-week-in-toronto-evening-conce
 rt-1442536251\n\nDetails to follow.\nwww.jewishmusicweek.com
DTSTART;TZID=America/Toronto:20170522T190000
DTEND;TZID=America/Toronto:20170522T230000
END:VEVENT
END:VCALENDAR
