BEGIN:VCALENDAR
PRODID:-//eluceo/ical//2.0/EN
VERSION:2.0
CALSCALE:GREGORIAN
BEGIN:VEVENT
UID:357fc6f8ad49e7afe9f200c4fb969be4
DTSTAMP:20260425T224042Z
SUMMARY:Jewish Music Week in Toronto Evening Concert
DESCRIPTION:UJA Federation of Greater Toronto\nJewish Toronto Calendar\nhtt
 ps://jewishtoronto.com/calendar/jewish-music-week-in-toronto-evening-conce
 rt-1438295993\n\nDetails to come
DTSTART;TZID=America/Toronto:20160601T000000
DTEND;TZID=America/Toronto:20160601T000000
END:VEVENT
END:VCALENDAR
