BEGIN:VCALENDAR
PRODID:-//eluceo/ical//2.0/EN
VERSION:2.0
CALSCALE:GREGORIAN
BEGIN:VEVENT
UID:a8e5161dcb76d4070de7046586928b87
DTSTAMP:20260423T134016Z
SUMMARY:Jewish Music Week Toronto: Community Melaveh Malka / Banter with th
 e Cantor
DESCRIPTION:UJA Federation of Greater Toronto\nJewish Toronto Calendar\nhtt
 ps://jewishtoronto.com/calendar/jewish-music-week-in-toronto-community-mel
 aveh-malka-banter-with-the-cantor\n\nFeaturing Cantors Benjamin Maissner\,
  Tibor Kovari\, Simon Spiro and Aaron Bensoussan\n \nThe Jewish Music Wee
 k tradition continues\, but with a twist. Although Shabbat ends\, the musi
 c and spirit of Shabbat don’t have to stop. As we come together to carry
  out the end of Shabbat and begin a new week with wonderful music\, our pa
 nel of international Cantors\, all based now in Toronto\, will regale us w
 ith entertaining stories of their varied backgrounds and contrasting caree
 rs. The Banter will be ...
DTSTART;TZID=America/Toronto:20150516T221500
DTEND;TZID=America/Toronto:20150516T233000
END:VEVENT
END:VCALENDAR
