BEGIN:VCALENDAR
PRODID:-//eluceo/ical//2.0/EN
VERSION:2.0
CALSCALE:GREGORIAN
BEGIN:VEVENT
UID:e0a728e9e283ae1ba4276d48e39ad709
DTSTAMP:20260419T222115Z
SUMMARY:Jewish Music Week in Toronto - Yonge Guns Quartet
DESCRIPTION:UJA Federation of Greater Toronto\nJewish Toronto Calendar\nhtt
 ps://jewishtoronto.com/calendar/jewish-music-week-in-toronto---yonge-guns-
 quartet-1555949930\n\nJewish Music Week in Toronto.\nYonge Guns Quartet ta
 kes the barbershop quartet to the next level with their tight harmonies an
 d incorporates its unique sound into the world of Jewish music. Christophe
 r Tanaka-Mann (tenor)\, Gregory Mallett (lead)\, Jackson Welchner (bariton
 e)\, Reuven Grajner (bass)\n12 pm\nPrincess Margaret Cancer Centre 610 Uni
 versity Avenue 7th Floor Atrium\n416-633-4492 Free admission
DTSTART;TZID=America/Toronto:20190529T120000
DTEND;TZID=America/Toronto:20190529T130000
END:VEVENT
END:VCALENDAR
