BEGIN:VCALENDAR
PRODID:-//eluceo/ical//2.0/EN
VERSION:2.0
CALSCALE:GREGORIAN
BEGIN:VEVENT
UID:776d2e6484224c0357570d031cc4226c
DTSTAMP:20260422T160033Z
SUMMARY:Jewish Music Week in Toronto - My Musical Story
DESCRIPTION:UJA Federation of Greater Toronto\nJewish Toronto Calendar\nhtt
 ps://jewishtoronto.com/calendar/jewish-music-week-in-toronto---my-musical-
 story-1555948342\n\nJewish Music Week in Toronto\nMy Musical Story with Kl
 ara Bagley. Klara is a well-known fixture on Toronto's Jewish musical land
 scape and in this delightful program she invites us on her musical journey
  featuring personal stories and a variety of songs in many styles\, and in
  four languages.\n9:45 AM\nBernard Betel Centre\, 1003 Steeles Ave W.\n416
 -638-4492 Free admission
DTSTART;TZID=America/Toronto:20190528T094500
DTEND;TZID=America/Toronto:20190528T110000
END:VEVENT
END:VCALENDAR
