BEGIN:VCALENDAR
PRODID:-//eluceo/ical//2.0/EN
VERSION:2.0
CALSCALE:GREGORIAN
BEGIN:VEVENT
UID:e9a8a851fe02edb30116300d1857be9a
DTSTAMP:20260419T131843Z
SUMMARY:Jewish Music Week in Toronto -  MIR Trio
DESCRIPTION:UJA Federation of Greater Toronto\nJewish Toronto Calendar\nhtt
 ps://jewishtoronto.com/calendar/jewish-music-week-in-toronto----mir-trio-1
 555952929\n\nJewish Music Week in Toronto - MIR Trio\nAn on-air live radio
  show with the MIR Trio\, for The New Classical 96.3 FM. Three stellar mus
 icians present an enchanting hour of music by living Jewish composers. Mar
 k Skazinetsky (violin)\, Igor Gefter (cello)\,Rachael Kerr (piano). 12pm\n
 Zoomer Hall\,The ZoomerPlex 70 Jefferson Avenue (Liberty Village)\nFree. T
 ickets required at www.mirtrio.eventbrite.ca\nCome in person or tune in to
  96.3FM
DTSTART;TZID=America/Toronto:20190531T120000
DTEND;TZID=America/Toronto:20190531T130000
END:VEVENT
END:VCALENDAR
