BEGIN:VCALENDAR
PRODID:-//eluceo/ical//2.0/EN
VERSION:2.0
CALSCALE:GREGORIAN
BEGIN:VEVENT
UID:0d8d84f3dfca0b291004b470be914f96
DTSTAMP:20260424T124743Z
SUMMARY:Jewish Music Week in Toronto: Singing Nona’s Songs
DESCRIPTION:UJA Federation of Greater Toronto\nJewish Toronto Calendar\nhtt
 ps://jewishtoronto.com/calendar/jewish-music-week-in-toronto\n\nAviva Cher
 nick & Joel Schwartz\n\nThis magnetic session with a musical Dynamic Duo c
 elebrates Ladino music\, playing songs of love and family while honouring 
 Aviva’s mentor and Nona\, American National Treasure and keeper of the B
 alkan Ladino tradition\, Flory Jagoda. These stories\, told through song\,
  stir the melodies of the heart. It’s soulful\, world-music songstress m
 eets Indie/Folk multi-instrumentalist\, and you won’t want to miss it!\n
 \nFree Admission\n\n For more information visit w...
DTSTART;TZID=America/Toronto:20150513T140000
DTEND;TZID=America/Toronto:20150513T150000
END:VEVENT
END:VCALENDAR
