BEGIN:VCALENDAR
PRODID:-//eluceo/ical//2.0/EN
VERSION:2.0
CALSCALE:GREGORIAN
BEGIN:VEVENT
UID:478e335ba135c553124d5bee6e851764
DTSTAMP:20260424T115702Z
SUMMARY:Jewish Music Week Fundraising Concert
DESCRIPTION:UJA Federation of Greater Toronto\nJewish Toronto Calendar\nhtt
 ps://jewishtoronto.com/calendar/jewish-music-week-fundraising-concert-1727
 453215\n\nSAVE THE DATE. DETAILS COMING.
DTSTART;TZID=America/Toronto:20250403T200000
DTEND;TZID=America/Toronto:20250403T220000
END:VEVENT
END:VCALENDAR
