BEGIN:VCALENDAR
PRODID:-//eluceo/ical//2.0/EN
VERSION:2.0
CALSCALE:GREGORIAN
BEGIN:VEVENT
UID:6ec8715e8430b09e9c9cc70358d26ea7
DTSTAMP:20260423T062225Z
SUMMARY:Jewish Music Week Day 6 Erev Shabbat Services
DESCRIPTION:UJA Federation of Greater Toronto\nJewish Toronto Calendar\nhtt
 ps://jewishtoronto.com/calendar/jewish-music-week-day-6-erev-shabbat-servi
 ces\n\n6 pm: N'ginah & Tisch\, with teh N'ginah Band followed by a Tisch f
 or young professionals. Holy Blossom Temple\; 1950 Bathurst St. 416-789-32
 91. www.holyblossom.org. 6 pm: Singalong Shabbat. Followed by dinner ($36 
 pp\, reserve by May 20). The Lodzer Synagogue\, 12 Heaton Street\, 416-636
 -6665\, www.lodzersynagogue.com. 6:30 pm: Halleluyah\, it's Shabbos! a sou
 lful Shabbat featuring live instruments together in a band. Potluck vegeta
 rian dinner following (reservations needed for dinner). The City Shu...
DTSTART;TZID=America/Toronto:20140523T180000
DTEND;TZID=America/Toronto:20140523T223000
END:VEVENT
END:VCALENDAR
