BEGIN:VCALENDAR
PRODID:-//eluceo/ical//2.0/EN
VERSION:2.0
CALSCALE:GREGORIAN
BEGIN:VEVENT
UID:2f620e3acb5e7c4e37a1f945b793b027
DTSTAMP:20260422T062142Z
SUMMARY:Jewish Moral Thought in Conversation with Chinese Civilization
DESCRIPTION:UJA Federation of Greater Toronto\nJewish Toronto Calendar\nhtt
 ps://jewishtoronto.com/calendar/jewish-moral-thought-in-conversation-with-
 chinese-civilization-1776804563\n\nThis event and other in the series cele
 brate May\, Asian Heritage Month and Jewish Heritage Month. This project i
 s promoting collaboration and ally ship between the Chinese and the Jewish
  communities\, and includes the availability of a free display which can b
 e downloaded and shared with libraries and schools. The display showcases 
 the civic contributions of a range of Jewish and Chinese individuals to pr
 omote awareness and good will. You can learn more about this project here:
 ...
DTSTART;TZID=America/Toronto:20260524T110000
DTEND;TZID=America/Toronto:20260524T123000
END:VEVENT
END:VCALENDAR
