BEGIN:VCALENDAR
PRODID:-//eluceo/ical//2.0/EN
VERSION:2.0
CALSCALE:GREGORIAN
BEGIN:VEVENT
UID:5a1faedb15f6d6e3c072dff8326fe0e7
DTSTAMP:20260423T040452Z
SUMMARY:Jewish Meditation with Rabbi Robyn Fryer Bodzin
DESCRIPTION:UJA Federation of Greater Toronto\nJewish Toronto Calendar\nhtt
 ps://jewishtoronto.com/calendar/jewish-meditation-with-rabbi-robyn-fryer-b
 odzin-1604546203\n\nFind a quiet place\, tune out the world around you and
  take some time for YOU to breathe. Re-centre and focus inward. ​This se
 ries will be streamed on Facebook at https://www.facebook.com/BethTzedecCo
 ngregation.
DTSTART;TZID=America/Toronto:20201129T094500
DTEND;TZID=America/Toronto:20201129T104500
END:VEVENT
END:VCALENDAR
