BEGIN:VCALENDAR
PRODID:-//eluceo/ical//2.0/EN
VERSION:2.0
CALSCALE:GREGORIAN
BEGIN:VEVENT
UID:15ec3a46bbf83a8bb8c9ef75bdc9e020
DTSTAMP:20260422T170923Z
SUMMARY:Jewish Medical Ethics: A 21st Century Discussion
DESCRIPTION:UJA Federation of Greater Toronto\nJewish Toronto Calendar\nhtt
 ps://jewishtoronto.com/calendar/jewish-medical-ethics-a-21st-century-discu
 ssion-1585077812\n\nJewish Medical Ethics: A 21st Century Discussion\nwith
  Dr. Sandra Lilienthal\, Melton Master Teacher in Miami and Boca Raton\n\n
 Four Thursdays: March 26\; APRIL 2\, 23\, 30\, 2020 at 3:00 pm EDT\n\nWhil
 e contemporary medical knowledge preserves life\, modern advances have rai
 sed moral and ethical dilemmas related to the sanctity and dignity of life
  – issues whose scope was unimaginable a generation ago. This course wil
 l explore the many Jewish approaches to a variety of 21st-century ethical 
 issues....
DTSTART;TZID=America/Toronto:20200326T150000
DTEND;TZID=America/Toronto:20200326T160000
END:VEVENT
END:VCALENDAR
