BEGIN:VCALENDAR
PRODID:-//eluceo/ical//2.0/EN
VERSION:2.0
CALSCALE:GREGORIAN
BEGIN:VEVENT
UID:3231556f9c6c9b10f10ddbcb64bbd1f7
DTSTAMP:20260422T165453Z
SUMMARY:Jewish Influence on American Folk Music
DESCRIPTION:UJA Federation of Greater Toronto\nJewish Toronto Calendar\nhtt
 ps://jewishtoronto.com/calendar/jewish-influence-on-american-folk-music-16
 42519910\n\nJoin Allan Cheskes this winter and explore the builders of fol
 k music\, Josh white\, Woody Guthrie\, and the Weavers\, leading up to Bob
  Dylan\, the next series. 
DTSTART;TZID=America/Toronto:20220127T200000
DTEND;TZID=America/Toronto:20220127T220000
END:VEVENT
END:VCALENDAR
