BEGIN:VCALENDAR
PRODID:-//eluceo/ical//2.0/EN
VERSION:2.0
CALSCALE:GREGORIAN
BEGIN:VEVENT
UID:aae64067cecd25a53b6af32923c7c675
DTSTAMP:20260421T073655Z
SUMMARY:Jewish Humour: A Serious Analysis with Rabbi Philip Scheim - 5 Part
  Series
DESCRIPTION:UJA Federation of Greater Toronto\nJewish Toronto Calendar\nhtt
 ps://jewishtoronto.com/calendar/jewish-humour-a-serious-analysis-with-rabb
 i-philip-scheim---5-part-series-1453134930\n\nFebruary 10\, 2016 The Jewis
 h Joke: Biblical and Rabbinic Antecedents\nFebruary 17\, 2016 Humour as a 
 Survival Tool: The Shoah Years\nFebruary 24\, 2016 Israeli Humour\nMarch 2
 \, 2016 Twentieth Century America: The Borscht Belt Years\nMarch 9\, 2016 
 From Seinfeld to Silverman: Jewish Humour in the New Century
DTSTART;TZID=America/Toronto:20160210T193000
DTEND;TZID=America/Toronto:20160210T210000
END:VEVENT
END:VCALENDAR
