BEGIN:VCALENDAR
PRODID:-//eluceo/ical//2.0/EN
VERSION:2.0
CALSCALE:GREGORIAN
BEGIN:VEVENT
UID:d71701228ef07fe6418fd5962173a291
DTSTAMP:20260423T144614Z
SUMMARY:Jewish Heritage Month Opening Event
DESCRIPTION:UJA Federation of Greater Toronto\nJewish Toronto Calendar\nhtt
 ps://jewishtoronto.com/calendar/jewish-heritage-month-opening-event-177076
 0856\n\nThis event will be an opening event to mark the start of Jewish He
 ritage Month.\n\nFor location details or to register\, please contact Hai
 ley Remer at haileyremer@gmail.com.
DTSTART;TZID=America/Toronto:20260503T063000
DTEND;TZID=America/Toronto:20260503T203000
END:VEVENT
END:VCALENDAR
