BEGIN:VCALENDAR
PRODID:-//eluceo/ical//2.0/EN
VERSION:2.0
CALSCALE:GREGORIAN
BEGIN:VEVENT
UID:67b1ba0ca73d3039f6761fa17d136fa9
DTSTAMP:20260422T182727Z
SUMMARY:Jewish Gen's Project:  The Geneological Value of Cemetery Burial re
 cords
DESCRIPTION:UJA Federation of Greater Toronto\nJewish Toronto Calendar\nhtt
 ps://jewishtoronto.com/calendar/jewish-gens-project-the-geneological-value
 -of-cemetery-burial-records\n\nJewish Gen's Jowbr Project:  The Geneologi
 cal Value of Cemetery Burial records\n\nSpeaker: Nolan Altman
DTSTART;TZID=America/Toronto:20150531T103000
DTEND;TZID=America/Toronto:20150531T130000
END:VEVENT
END:VCALENDAR
