BEGIN:VCALENDAR
PRODID:-//eluceo/ical//2.0/EN
VERSION:2.0
CALSCALE:GREGORIAN
BEGIN:VEVENT
UID:d037fba7fe48e97bc6516ac64bb96382
DTSTAMP:20260426T042731Z
SUMMARY:Jewish Genealogical Society of Toronto. Naturalization and Citizens
 hip Docs
DESCRIPTION:UJA Federation of Greater Toronto\nJewish Toronto Calendar\nhtt
 ps://jewishtoronto.com/calendar/jewish-genealogical-society-of-toronto-nat
 uralization-and-citizenship-docs-1581096269\n\nJewish Genealogical Society
  of Toronto\n\nFinding and Using Naturalization and Citizenship Documents\
 nin Canada\, the United Kingdom and the United States\n\nJGS Toronto Panel
 ists:\nMarla Waltman (Canada)\,\nLes Kelman (UK) and Barry Spinner (USA)\n
 \nShaarei Shomayim Congregation\n470 Glencairn Avenue\nWednesday\, 25 Marc
 h 2020\, at 8:00 p.m.\n\nMembers:  Free        Guests:  $5\n\n\n
DTSTART;TZID=America/Toronto:20200325T200000
DTEND;TZID=America/Toronto:20200325T213000
END:VEVENT
END:VCALENDAR
