BEGIN:VCALENDAR
PRODID:-//eluceo/ical//2.0/EN
VERSION:2.0
CALSCALE:GREGORIAN
BEGIN:VEVENT
UID:1193ac359bcbb914c15407d5f0afb943
DTSTAMP:20260421T113920Z
SUMMARY:Jewish Genealogical Society of Toronto. He discovered 75\,000 relat
 ives.
DESCRIPTION:UJA Federation of Greater Toronto\nJewish Toronto Calendar\nhtt
 ps://jewishtoronto.com/calendar/jewish-genealogical-society-of-toronto-he-
 discovered-75000-relatives-1664860863\n\nJEWISH GENEALOGICAL SOCIETY OF TO
 RONTO\nHybrid MEETING:\n\nParticipate in person at Shaarei Shomayim\n470 G
 lencairn Avenue\, Toronto\nOR\nView from home \n\nWednesday\, 19 October 2
 022\, 7:30 PM ET\n\nHe thought his family was wiped out in the Holocaust\n
 Then he discovered 75\,000 distant relatives\n\nRALPH CILEVITZ will relate
  the story of how he discovered new connections and relatives.
DTSTART;TZID=America/Toronto:20221019T193000
DTEND;TZID=America/Toronto:20221019T213000
END:VEVENT
END:VCALENDAR
