BEGIN:VCALENDAR
PRODID:-//eluceo/ical//2.0/EN
VERSION:2.0
CALSCALE:GREGORIAN
BEGIN:VEVENT
UID:890caf4060217ddaa9c4a10a3dd1f281
DTSTAMP:20260424T120002Z
SUMMARY:Jewish Genealogical Society of Toronto. DNA Special Interest Group 
 Workshop
DESCRIPTION:UJA Federation of Greater Toronto\nJewish Toronto Calendar\nhtt
 ps://jewishtoronto.com/calendar/jewish-genealogical-society-of-toronto-dna
 -special-interest-group-workshop-1651802956\n\nJEWISH GENEALOGICAL SOCIETY
  OF TORONTO\n\nDNA SPECIAL INTEREST GROUP (SIG)\nQ&A WORKSHOP\n\nFeaturing
  our new JGS Toronto members\, \nGil Bardige and Arthur Sissman\nTuesday\,
  24 May 2022\, 7:30 p.m. ET\nVirtual meeting:  View from home \n\n
DTSTART;TZID=America/Toronto:20220524T073000
DTEND;TZID=America/Toronto:20220524T213000
END:VEVENT
END:VCALENDAR
