BEGIN:VCALENDAR
PRODID:-//eluceo/ical//2.0/EN
VERSION:2.0
CALSCALE:GREGORIAN
BEGIN:VEVENT
UID:b729d1a13ea16f88a96e3fd627fe02d9
DTSTAMP:20260423T145910Z
SUMMARY:Jewish Genealogical Society of Toronto. Beyond These Walls
DESCRIPTION:UJA Federation of Greater Toronto\nJewish Toronto Calendar\nhtt
 ps://jewishtoronto.com/calendar/jewish-genealogical-society-of-toronto-bey
 ond-these-walls-1675736802\n\nJEWISH GENEALOGICAL SOCIETY OF TORONTO\,\nBe
 th Tikvah Synagogue and Classi Lectures\nPRESENT\n\nBeyond These Walls: Es
 caping the Warsaw Ghetto – A Young Girl’s Story\n\nSpeaker: Lydia Baum
 an\n\nMonday 13 Feb 2023\, 4:00 – 5:00 p.m. EST\nVIRTUAL MEETING: Join f
 rom Home
DTSTART;TZID=America/Toronto:20230213T160000
DTEND;TZID=America/Toronto:20230213T170000
END:VEVENT
END:VCALENDAR
