BEGIN:VCALENDAR
PRODID:-//eluceo/ical//2.0/EN
VERSION:2.0
CALSCALE:GREGORIAN
BEGIN:VEVENT
UID:7d4d2147662c1b96c16bdae3ee96f3bf
DTSTAMP:20260423T183031Z
SUMMARY:Jewish Futures 2026
DESCRIPTION:UJA Federation of Greater Toronto\nJewish Toronto Calendar\nhtt
 ps://jewishtoronto.com/calendar/jewish-futures-2026-1768927904\n\nA confer
 ence for Toronto’s artists and cultural workers exploring the future of 
 Jewish cultural and artistic life.\nThe Jewish Futures Arts and Culture Sa
 lon returns for its fourth year! Join us downtown at the Miles Nadal JCC.\
 n\nMore info to come!\n\nThe program will emphasize networking\, communal 
 learning\, and the exploration of Jewish and artistic identity and practic
 es\, providing the foundation for building resilience and leadership for T
 oronto’s Jewish cultural community. The day wi...
DTSTART;TZID=America/Toronto:20261115T100000
DTEND;TZID=America/Toronto:20261115T160000
END:VEVENT
END:VCALENDAR
