BEGIN:VCALENDAR
PRODID:-//eluceo/ical//2.0/EN
VERSION:2.0
CALSCALE:GREGORIAN
BEGIN:VEVENT
UID:465bb5395e9bed5ad8d7e93f9fb19f49
DTSTAMP:20260421T064129Z
SUMMARY:Jewish Free Loan Toronto's 100th Anniversary Celebration
DESCRIPTION:UJA Federation of Greater Toronto\nJewish Toronto Calendar\nhtt
 ps://jewishtoronto.com/calendar/jewish-free-loan-torontos-100th-anniversar
 y-celebration-1705679627\n\nIn honour of its 100th anniversary\, JFLT will
  be hosting a reception \, program and concert at the Prosserman JCC
DTSTART;TZID=America/Toronto:20240929T140000
DTEND;TZID=America/Toronto:20240929T160000
END:VEVENT
END:VCALENDAR
