BEGIN:VCALENDAR
PRODID:-//eluceo/ical//2.0/EN
VERSION:2.0
CALSCALE:GREGORIAN
BEGIN:VEVENT
UID:1fd40455b318d18bbc66194315a492b2
DTSTAMP:20260421T181011Z
SUMMARY:Jewish Foundation Trustees Meeting
DESCRIPTION:UJA Federation of Greater Toronto\nJewish Toronto Calendar\nhtt
 ps://jewishtoronto.com/calendar/jewish-foundation-trustees-meeting-1485531
 026\n\nJewish Foundation Trustees Meeting
DTSTART;TZID=America/Toronto:20170606T073000
DTEND;TZID=America/Toronto:20170606T093000
END:VEVENT
END:VCALENDAR
