BEGIN:VCALENDAR
PRODID:-//eluceo/ical//2.0/EN
VERSION:2.0
CALSCALE:GREGORIAN
BEGIN:VEVENT
UID:5a7cd127adddc30bd173104f6c986eac
DTSTAMP:20260419T195116Z
SUMMARY:Jewish Foundation of Greater Toronto LOJE Tea
DESCRIPTION:UJA Federation of Greater Toronto\nJewish Toronto Calendar\nhtt
 ps://jewishtoronto.com/calendar/jewish-foundation-of-greater-toronto-loje-
 tea\n\nJewish Foundation of Greater Toronto LOJE Tea
DTSTART;TZID=America/Toronto:20150616T133000
DTEND;TZID=America/Toronto:20150616T153000
END:VEVENT
END:VCALENDAR
