BEGIN:VCALENDAR
PRODID:-//eluceo/ical//2.0/EN
VERSION:2.0
CALSCALE:GREGORIAN
BEGIN:VEVENT
UID:40c8af28e58a7b61cd4e8d7c30352934
DTSTAMP:20260419T200604Z
SUMMARY:Jewish Foundation Investment Meeting
DESCRIPTION:UJA Federation of Greater Toronto\nJewish Toronto Calendar\nhtt
 ps://jewishtoronto.com/calendar/jewish-foundation-investment-meeting-14492
 54438\n\nJewish Foundation Investment Meeting
DTSTART;TZID=America/Toronto:20160224T120000
DTEND;TZID=America/Toronto:20160224T140000
END:VEVENT
END:VCALENDAR
