BEGIN:VCALENDAR
PRODID:-//eluceo/ical//2.0/EN
VERSION:2.0
CALSCALE:GREGORIAN
BEGIN:VEVENT
UID:27c0acaef83f53367122140805640f76
DTSTAMP:20260422T205123Z
SUMMARY:Jewish Foundation Investment Committee Meeting
DESCRIPTION:UJA Federation of Greater Toronto\nJewish Toronto Calendar\nhtt
 ps://jewishtoronto.com/calendar/jewish-foundation-investment-committee-mee
 ting-sept-3\n\nJewish Foundation Investment Committee Meeting
DTSTART;TZID=America/Toronto:20140903T120000
DTEND;TZID=America/Toronto:20140903T140000
END:VEVENT
END:VCALENDAR
