BEGIN:VCALENDAR
PRODID:-//eluceo/ical//2.0/EN
VERSION:2.0
CALSCALE:GREGORIAN
BEGIN:VEVENT
UID:e71f72a056a5a40ed697b3b143be1ca5
DTSTAMP:20260419T230229Z
SUMMARY:Jewish Foundation Board of Trustees Meeting
DESCRIPTION:UJA Federation of Greater Toronto\nJewish Toronto Calendar\nhtt
 ps://jewishtoronto.com/calendar/jewish-foundation-board-of-trustees-meetin
 g-1448912184\n\nJewish Foundation Board of Trustees Meeting
DTSTART;TZID=America/Toronto:20151208T073000
DTEND;TZID=America/Toronto:20151209T091500
END:VEVENT
END:VCALENDAR
