BEGIN:VCALENDAR
PRODID:-//eluceo/ical//2.0/EN
VERSION:2.0
CALSCALE:GREGORIAN
BEGIN:VEVENT
UID:cab40c7f7d6a91e2e50e7869814caf1f
DTSTAMP:20260420T015103Z
SUMMARY:Jewish Disability Awareness and Inclusion Month - JDAIM Reads
DESCRIPTION:UJA Federation of Greater Toronto\nJewish Toronto Calendar\nhtt
 ps://jewishtoronto.com/calendar/jewish-disability-awareness-and-inclusion-
 month---jdaim-reads-1450298277\n\nBooks Table at the Barbara Frum Library 
 in honour of Jewish Disability Awareness and Inclusion Month
DTSTART;TZID=America/Toronto:20160201T090000
DTEND;TZID=America/Toronto:20160201T230000
END:VEVENT
END:VCALENDAR
