BEGIN:VCALENDAR
PRODID:-//eluceo/ical//2.0/EN
VERSION:2.0
CALSCALE:GREGORIAN
BEGIN:VEVENT
UID:0560c18b3e0d67d5953c40600d533f8d
DTSTAMP:20260424T034922Z
SUMMARY:CJE Jewish Day School Volunteer Recognition Event
DESCRIPTION:UJA Federation of Greater Toronto\nJewish Toronto Calendar\nhtt
 ps://jewishtoronto.com/calendar/jewish-day-school-volunteer-recognition-16
 06323787\n\nFurther details TBD
DTSTART;TZID=America/Toronto:20210119T190000
DTEND;TZID=America/Toronto:20210119T200000
END:VEVENT
END:VCALENDAR
