BEGIN:VCALENDAR
PRODID:-//eluceo/ical//2.0/EN
VERSION:2.0
CALSCALE:GREGORIAN
BEGIN:VEVENT
UID:c529b4ad34c305c670a429f60d8c443e
DTSTAMP:20260422T055616Z
SUMMARY:Jewish Comedy Night
DESCRIPTION:UJA Federation of Greater Toronto\nJewish Toronto Calendar\nhtt
 ps://jewishtoronto.com/calendar/jewish-comedy-night-17426611291\n\nWith Sa
 turday Night Live celebrating 50 years of comedy greatness\, The Magen Boy
 s want to know—what better way to mark the occasion than with one of its
  most legendary cast members—Jon Lovitz!\n\nJoin us on May 28 & 29 at th
 e Leah Posluns Theatre for two unforgettable nights of laughter. The two-t
 ime Emmy nominee will bring his signature wit\, iconic characters\, and si
 de-splitting humor for a comedy event you won’t forget!\n\nKnown for his
  unforgettable SNL characters like Tommy Flanagan...
DTSTART;TZID=America/Toronto:20250528T000000
DTEND;TZID=America/Toronto:20250529T235959
END:VEVENT
END:VCALENDAR
