BEGIN:VCALENDAR
PRODID:-//eluceo/ical//2.0/EN
VERSION:2.0
CALSCALE:GREGORIAN
BEGIN:VEVENT
UID:d53277a3144376fc12335dc9d396c8b6
DTSTAMP:20260419T144032Z
SUMMARY:Jewish Comedy Festival Presents: Menorah Maddness
DESCRIPTION:UJA Federation of Greater Toronto\nJewish Toronto Calendar\nhtt
 ps://jewishtoronto.com/calendar/jewish-comedy-festival-presents-menorah-ma
 ddness-1733157393\n\nLight up your Hanukkah with laughter! Join us on the 
 second night of Hanukkah\, December 26th\, 8 PM at Comedy Bar West\, for a
  night of Jewish comedy hotter than fresh latkes. Featuring Toronto’s fu
 nniest up-and-coming Jewish comedians\, this show will have you kvelling b
 etween bites of sufganiyot! Don’t schlep—book now!\n\nFeaturing:\n\nBr
 andon Zakkai\, Matt Render\, Brooklyn Mike\, Jaime Glassman\, Ronen Geisle
 r\, Mozie Elmaleh\, and Max Guttmann
DTSTART;TZID=America/Toronto:20241226T200000
DTEND;TZID=America/Toronto:20241226T213000
END:VEVENT
END:VCALENDAR
