BEGIN:VCALENDAR
PRODID:-//eluceo/ical//2.0/EN
VERSION:2.0
CALSCALE:GREGORIAN
BEGIN:VEVENT
UID:28b5167eaa7d9ab232524dae690ff91f
DTSTAMP:20260421T232218Z
SUMMARY:Jewish Canada - A Historical Perspective at Beth Tikvah Synagogue
DESCRIPTION:UJA Federation of Greater Toronto\nJewish Toronto Calendar\nhtt
 ps://jewishtoronto.com/calendar/jewish-canada---a-historical-perspective-a
 t-beth-tikvah-synagogue-1501169900\n\nPortraits of Canadian Jews – A Sur
 vey of the Canadian Jewish Experience\nWith Franklin Bialystok\nWednesday\
 , October 18 at 7:30 pm\n\nFrank Bialystok is a Professor of Canadian\, Je
 wish and Diaspora Studies at University College\, University of Toronto. A
 uthor of the book\, “Delayed Impact: The Holocaust and The Canadian Jewi
 sh Community\,” Professor Bialystok is currently writing a history of th
 e Jews of Canada to be published by the University of Toronto Press.\n\nMe
 mbers: No Charge\nNon-...
DTSTART;TZID=America/Toronto:20171018T193000
DTEND;TZID=America/Toronto:20171018T213000
END:VEVENT
END:VCALENDAR
