BEGIN:VCALENDAR
PRODID:-//eluceo/ical//2.0/EN
VERSION:2.0
CALSCALE:GREGORIAN
BEGIN:VEVENT
UID:195b360be68473eb5997423440853704
DTSTAMP:20260423T112144Z
SUMMARY:JDY Theatre Presents: Train for Two
DESCRIPTION:UJA Federation of Greater Toronto\nJewish Toronto Calendar\nhtt
 ps://jewishtoronto.com/calendar/jdy-theatre-presents-train-for-two-1558966
 778\n\nTrain for Two is a theatrical production that uses movement\, music
 \, and time to examine the power of choice for the Jewish nation\, through
 out history and in modern times. Presented during UJA's Holocaust Educatio
 n Week\, the play is an original piece\, based on the true family story of
  JDY Theatre director Dan Petrenko. Told through flashbacks to the past as
  well as a contemporary encounter between two strangers on a train\, the n
 arrative explores the extremes of human sacrifice in a state of cr...
DTSTART;TZID=America/Toronto:20191105T200000
DTEND;TZID=America/Toronto:20191106T080000
END:VEVENT
END:VCALENDAR
