BEGIN:VCALENDAR
PRODID:-//eluceo/ical//2.0/EN
VERSION:2.0
CALSCALE:GREGORIAN
BEGIN:VEVENT
UID:05416018c58af4d57b52ea9b3e466cbd
DTSTAMP:20260419T200802Z
SUMMARY:JDAIM The Shalom Singers LIVE in Concert!
DESCRIPTION:UJA Federation of Greater Toronto\nJewish Toronto Calendar\nhtt
 ps://jewishtoronto.com/calendar/jdaim-the-shalom-singers-live-in-concert-1
 516045137\n\nA special opportunity to honour the Jewish Disability Awarene
 ss & Inclusion Month \nwith friends and family\n \nThe Mission of Jewish D
 isability Awareness and Inclusion Month to unite Jewish communities world 
 wide to raise awareness and champion the rights of all Jews to be included
  and to participate in all aspects of Jewish life like anyone else.
DTSTART;TZID=America/Toronto:20180226T140000
DTEND;TZID=America/Toronto:20180226T160000
END:VEVENT
END:VCALENDAR
